BEGIN:VCALENDAR
VERSION:2.0
PRODID:-//Eesti Õngitsejate Liit - ECPv6.15.15//NONSGML v1.0//EN
CALSCALE:GREGORIAN
METHOD:PUBLISH
X-ORIGINAL-URL:https://www.sportkalastus.ee
X-WR-CALDESC:Events for Eesti Õngitsejate Liit
REFRESH-INTERVAL;VALUE=DURATION:PT1H
X-Robots-Tag:noindex
X-PUBLISHED-TTL:PT1H
BEGIN:VTIMEZONE
TZID:UTC
BEGIN:STANDARD
TZOFFSETFROM:+0000
TZOFFSETTO:+0000
TZNAME:UTC
DTSTART:20250101T000000
END:STANDARD
END:VTIMEZONE
BEGIN:VEVENT
DTSTART;TZID=UTC:20260214T000000
DTEND;TZID=UTC:20260215T235959
DTSTAMP:20260421T192826
CREATED:20260110T110852Z
LAST-MODIFIED:20260201T211845Z
UID:111-1771027200-1771199999@www.sportkalastus.ee
SUMMARY:Eesti meistrivõistlused jääaluses kalapüügis II etapp
DESCRIPTION:Toimumise aeg:\nI püügivoor 14.02.2026\nII püügivoor 15.02.2026\nVeekogu: Pikkjärv\, Tilsi küla\nKogunemiskoht: Tilsi Põhikooli ees parklas\, https://kaart.delfi.ee?bookmark=30c1c3c22d5057f3a70a340770f53976 \nKaalumine: Tilsi Põhikoolis\nVõistlusklassid: üldarvestus(mehed\, naised\, noored) ja võistkond\, kuhu kuulub 3 liiget. \nEraldi arvestus noortele ja naistele rakendatakse juhul\, kui vastavasse võistlusklassi on registreerunud vähemalt 3 võistlejat. Registreerumine peab olema tehtud hiljemalt 06.02.2026. \nRegistreerimine: individuaal ja võistkondade registreerimise kinnitab ülekande tasumine a/a EE971010220032877013 (Eesti Õngitsejate Liit) ja selgituseks võistleja või võistlejate nimed (kui tasustatakse mitme võistleja eest).\nRegistreerimise lõpp 12.02.2026 ja hiljemalt 13.02.2026 peavad osalustasud olema ülekantud.\nLink: https://forms.gle/hoSTPcFzCMCXwdt4A\nKOHAPEAL REGISTREERIMIST EI TOIMU!\nOsalustasu 30€ \nAutasustamine: karikate\, medalite ja võimalusel auhindadega autasustatakse kolme parimat individuaalvõistlejat ja kolme parimat võistkonda.\nEeltreeningud: võistlusveekogu jääl viibimine on võistlejatele keelatud 1km raadiuses Tilsi Põhikooli eest alates kolmapäevast (11.02.2026) kuni võistluse alguseni (v.a. korraldusmeeskond ja kohtunikud – järelevalve teostamiseks ja sektorite mahamärkimiseks). Püügikeelu ala on märgitud kaardil. \nVõistluse jooksul võistlejate poolt saadud kala jagatakse soovi korral pärast kaalumist võistlejatele tagasi. Kui kala jääb üle\, siis korraldaja organiseerib kalade utiliseerimise.\nVõistluse territooriumile ja selle lähiümbrusesse prügi mahapanek on keelatud.\nVõistlejal peab olema kehtiv harrastuspüügiõigus. \nAJAKAVA\nI voor 14.02.2026\n09:30 – 11:00 sektorite märkimine\, kogunemine Tilsi Põhikooli ette;\n11:00 – 11:30 võistluse avamine ja sektorite loosimine;\n11:30 – 11:55 võistluspaika minek\, sektorisse sisenemine – pärast esimest signaali ja püügikoha valik;\n12:00 – 15:00 võistluspüük;\n~16:00 – kaalumine Tilsi Põhikoolis \nII voor 15.02.2026\n08:30 – 10:00 sektorite märkimine\, kogunemine Tilsi Põhikooli ette;\n10:00 – 10:30 võistluse avamine ja sektorite loosimine;\n10:30 – 10:55 võistluspaika minek\, sektorisse sisenemine – pärast esimest signaali ja püügikoha valik;\n11:00 – 14:00 võistluspüük;\n~15:00 – kaalumine Tilsi Põhikoolis \n 
URL:https://www.sportkalastus.ee/event/eesti-meistrivoistlused-jaaaluses-kalapuugis-ii-etapp/
CATEGORIES:Talipüük
END:VEVENT
END:VCALENDAR