BEGIN:VCALENDAR
VERSION:2.0
PRODID:-//Eesti Õngitsejate Liit - ECPv6.15.15//NONSGML v1.0//EN
CALSCALE:GREGORIAN
METHOD:PUBLISH
X-ORIGINAL-URL:https://www.sportkalastus.ee
X-WR-CALDESC:Events for Eesti Õngitsejate Liit
REFRESH-INTERVAL;VALUE=DURATION:PT1H
X-Robots-Tag:noindex
X-PUBLISHED-TTL:PT1H
BEGIN:VTIMEZONE
TZID:Europe/Helsinki
BEGIN:DAYLIGHT
TZOFFSETFROM:+0200
TZOFFSETTO:+0300
TZNAME:EEST
DTSTART:20250330T010000
END:DAYLIGHT
BEGIN:STANDARD
TZOFFSETFROM:+0300
TZOFFSETTO:+0200
TZNAME:EET
DTSTART:20251026T010000
END:STANDARD
BEGIN:DAYLIGHT
TZOFFSETFROM:+0200
TZOFFSETTO:+0300
TZNAME:EEST
DTSTART:20260329T010000
END:DAYLIGHT
BEGIN:STANDARD
TZOFFSETFROM:+0300
TZOFFSETTO:+0200
TZNAME:EET
DTSTART:20261025T010000
END:STANDARD
BEGIN:DAYLIGHT
TZOFFSETFROM:+0200
TZOFFSETTO:+0300
TZNAME:EEST
DTSTART:20270328T010000
END:DAYLIGHT
BEGIN:STANDARD
TZOFFSETFROM:+0300
TZOFFSETTO:+0200
TZNAME:EET
DTSTART:20271031T010000
END:STANDARD
END:VTIMEZONE
BEGIN:VEVENT
DTSTART;TZID=Europe/Helsinki:20260808T000000
DTEND;TZID=Europe/Helsinki:20260809T235959
DTSTAMP:20260422T040215
CREATED:20260110T150625Z
LAST-MODIFIED:20260110T150625Z
UID:163-1786147200-1786319999@www.sportkalastus.ee
SUMMARY:Night Battle
DESCRIPTION:
URL:https://www.sportkalastus.ee/event/night-battle/
CATEGORIES:Feederpüük
END:VEVENT
BEGIN:VEVENT
DTSTART;TZID=Europe/Helsinki:20260815T000000
DTEND;TZID=Europe/Helsinki:20260816T235959
DTSTAMP:20260422T040215
CREATED:20260110T150639Z
LAST-MODIFIED:20260110T150639Z
UID:166-1786752000-1786924799@www.sportkalastus.ee
SUMMARY:Rahvavõistlus EFK 2 päeva
DESCRIPTION:
URL:https://www.sportkalastus.ee/event/rahvavoistlus-efk-2-paeva/
CATEGORIES:Feederpüük
END:VEVENT
BEGIN:VEVENT
DTSTART;TZID=Europe/Helsinki:20260829T000000
DTEND;TZID=Europe/Helsinki:20260830T235959
DTSTAMP:20260422T040215
CREATED:20260110T150623Z
LAST-MODIFIED:20260110T150623Z
UID:155-1787961600-1788134399@www.sportkalastus.ee
SUMMARY:Eesti meistrivõistlused õngitsemises V etapp
DESCRIPTION:
URL:https://www.sportkalastus.ee/event/eesti-meistrivoistlused-ongitsemises-v-etapp/
CATEGORIES:Õngitsemine
END:VEVENT
BEGIN:VEVENT
DTSTART;TZID=Europe/Helsinki:20260905T000000
DTEND;TZID=Europe/Helsinki:20260906T235959
DTSTAMP:20260422T040215
CREATED:20260110T150625Z
LAST-MODIFIED:20260110T150625Z
UID:162-1788566400-1788739199@www.sportkalastus.ee
SUMMARY:ESSL valikvõistluste IV etapp
DESCRIPTION:
URL:https://www.sportkalastus.ee/event/essl-valikvoistluste-iv-etapp/
CATEGORIES:Spinningupüük
END:VEVENT
BEGIN:VEVENT
DTSTART;TZID=Europe/Helsinki:20260919T000000
DTEND;TZID=Europe/Helsinki:20260920T235959
DTSTAMP:20260422T040215
CREATED:20260110T150624Z
LAST-MODIFIED:20260110T150624Z
UID:158-1789776000-1789948799@www.sportkalastus.ee
SUMMARY:Eestri meistrivõistlused feederpüügis III etapp
DESCRIPTION:
URL:https://www.sportkalastus.ee/event/eestri-meistrivoistlused-feederpuugis-iii-etapp/
CATEGORIES:Feederpüük
END:VEVENT
END:VCALENDAR